BEGIN:VCALENDAR
VERSION:2.0
PRODID:-//City of Anna - ECPv4.9.12//NONSGML v1.0//EN
CALSCALE:GREGORIAN
METHOD:PUBLISH
X-WR-CALNAME:City of Anna
X-ORIGINAL-URL:https://cityofanna.org
X-WR-CALDESC:Events for City of Anna
BEGIN:VTIMEZONE
TZID:America/Chicago
BEGIN:DAYLIGHT
TZOFFSETFROM:-0600
TZOFFSETTO:-0500
TZNAME:CDT
DTSTART:20190310T080000
END:DAYLIGHT
BEGIN:STANDARD
TZOFFSETFROM:-0500
TZOFFSETTO:-0600
TZNAME:CST
DTSTART:20191103T070000
END:STANDARD
END:VTIMEZONE
BEGIN:VEVENT
DTSTART;TZID=America/Chicago:20191031T180000
DTEND;TZID=America/Chicago:20191031T200000
DTSTAMP:20260423T085735
CREATED:20190918T134802Z
LAST-MODIFIED:20190918T135526Z
UID:2233-1572544800-1572552000@cityofanna.org
SUMMARY:Trick-or-Treat
DESCRIPTION:The City of Anna Council passed Trick-or-Treat hours for Thursday\, October 31\, 2019 from 6 p.m. to 8 p.m. \n
URL:https://cityofanna.org/event/trick-or-treat/
LOCATION:103 Market Street\, Anna\, IL\, 62906\, United States
END:VEVENT
END:VCALENDAR