BEGIN:VCALENDAR
VERSION:2.0
PRODID:-//City of Anna - ECPv4.9.12//NONSGML v1.0//EN
CALSCALE:GREGORIAN
METHOD:PUBLISH
X-WR-CALNAME:City of Anna
X-ORIGINAL-URL:https://cityofanna.org
X-WR-CALDESC:Events for City of Anna
BEGIN:VTIMEZONE
TZID:America/Chicago
BEGIN:DAYLIGHT
TZOFFSETFROM:-0600
TZOFFSETTO:-0500
TZNAME:CDT
DTSTART:20190310T080000
END:DAYLIGHT
BEGIN:STANDARD
TZOFFSETFROM:-0500
TZOFFSETTO:-0600
TZNAME:CST
DTSTART:20191103T070000
END:STANDARD
END:VTIMEZONE
BEGIN:VEVENT
DTSTART;TZID=America/Chicago:20191101T160000
DTEND;TZID=America/Chicago:20191101T163000
DTSTAMP:20260423T084310
CREATED:20191024T143951Z
LAST-MODIFIED:20191029T191915Z
UID:2358-1572624000-1572625800@cityofanna.org
SUMMARY:Pickleball Court Ribbon Cutting Ceremony
DESCRIPTION:The City of Anna is holding a ribbon cutting ceremony for the four new pickleball courts at the City Park. \nVisit our facebook page click here. \n
URL:https://cityofanna.org/event/pickleball-court-ribbon-cutting-ceremony/
LOCATION:City of Anna Park\, Herman Wright Dr.\, Anna\, IL\, 62906\, United States
GEO:37.4550506;-89.2450961
X-APPLE-STRUCTURED-LOCATION;VALUE=URI;X-ADDRESS=City of Anna Park Herman Wright Dr. Anna IL 62906 United States;X-APPLE-RADIUS=500;X-TITLE=Herman Wright Dr.:geo:-89.2450961,37.4550506
END:VEVENT
END:VCALENDAR