BEGIN:VCALENDAR
VERSION:2.0
PRODID:-//City of Anna - ECPv4.9.12//NONSGML v1.0//EN
CALSCALE:GREGORIAN
METHOD:PUBLISH
X-WR-CALNAME:City of Anna
X-ORIGINAL-URL:https://cityofanna.org
X-WR-CALDESC:Events for City of Anna
BEGIN:VTIMEZONE
TZID:America/Chicago
BEGIN:DAYLIGHT
TZOFFSETFROM:-0600
TZOFFSETTO:-0500
TZNAME:CDT
DTSTART:20200308T080000
END:DAYLIGHT
BEGIN:STANDARD
TZOFFSETFROM:-0500
TZOFFSETTO:-0600
TZNAME:CST
DTSTART:20201101T070000
END:STANDARD
END:VTIMEZONE
BEGIN:VEVENT
DTSTART;TZID=America/Chicago:20200917T140000
DTEND;TZID=America/Chicago:20200917T180000
DTSTAMP:20260422T225557
CREATED:20200825T153912Z
LAST-MODIFIED:20200825T153912Z
UID:3298-1600351200-1600365600@cityofanna.org
SUMMARY:Union County Census Day
DESCRIPTION:Come join us at Stinson Library\, 409 S Main St.\, from 2 p.m. – 6 p.m. on September 17\, 2020.  If you haven’t completed your Census yet\, there will be questionnaire assistance along with refreshments\, giveaways and prizes! \nShawnee Mass Transit District will be offering free rides by calling 1-866-577-6278. \nSubmit the census and be entered for a chance to win a $50 gift card. \n
URL:https://cityofanna.org/event/union-county-census-day/
LOCATION:Stinson Library\, 409 S Main St.\, Anna\, IL\, 62906\, United States
ATTACH;FMTTYPE=image/jpeg:https://cityofanna.org/wp-content/uploads/2020/08/Sept-17.jpg
GEO:37.4582513;-89.251779
X-APPLE-STRUCTURED-LOCATION;VALUE=URI;X-ADDRESS=Stinson Library 409 S Main St. Anna IL 62906 United States;X-APPLE-RADIUS=500;X-TITLE=409 S Main St.:geo:-89.251779,37.4582513
END:VEVENT
END:VCALENDAR