BEGIN:VCALENDAR
VERSION:2.0
PRODID:-//City of Anna - ECPv4.9.12//NONSGML v1.0//EN
CALSCALE:GREGORIAN
METHOD:PUBLISH
X-WR-CALNAME:City of Anna
X-ORIGINAL-URL:https://cityofanna.org
X-WR-CALDESC:Events for City of Anna
BEGIN:VTIMEZONE
TZID:America/Chicago
BEGIN:DAYLIGHT
TZOFFSETFROM:-0600
TZOFFSETTO:-0500
TZNAME:CDT
DTSTART:20210314T080000
END:DAYLIGHT
BEGIN:STANDARD
TZOFFSETFROM:-0500
TZOFFSETTO:-0600
TZNAME:CST
DTSTART:20211107T070000
END:STANDARD
END:VTIMEZONE
BEGIN:VEVENT
DTSTART;VALUE=DATE:20210720
DTEND;VALUE=DATE:20210722
DTSTAMP:20260421T205613
CREATED:20210115T192129Z
LAST-MODIFIED:20210115T193418Z
UID:3797-1626750000-1626836399@cityofanna.org
SUMMARY:Utility Bill Due Date
DESCRIPTION:Utility bills due. 12% penalty for any payment(s) after 4 p.m. \n
URL:https://cityofanna.org/event/utility-bill-due-date-28/
LOCATION:Anna City Hall\, 103 Market Street\, Anna\, IL\, 62906\, United States
CATEGORIES:Utility Bill Due Date
GEO:37.4605159;-89.2485871
X-APPLE-STRUCTURED-LOCATION;VALUE=URI;X-ADDRESS=Anna City Hall 103 Market Street Anna IL 62906 United States;X-APPLE-RADIUS=500;X-TITLE=103 Market Street:geo:-89.2485871,37.4605159
END:VEVENT
BEGIN:VEVENT
DTSTART;TZID=America/Chicago:20210720T170000
DTEND;TZID=America/Chicago:20210720T170000
DTSTAMP:20260421T205613
CREATED:20201123T174010Z
LAST-MODIFIED:20201123T174010Z
UID:3619-1626800400-1626800400@cityofanna.org
SUMMARY:Council Meeting
DESCRIPTION:City Council Meetings are held in the back of City Hall at 5 pm. \n
URL:https://cityofanna.org/event/council-meeting-34/
LOCATION:Anna City Hall\, 103 Market Street\, Anna\, IL\, 62906\, United States
CATEGORIES:Council Meetings
GEO:37.4585409;-89.2410287
X-APPLE-STRUCTURED-LOCATION;VALUE=URI;X-ADDRESS=Anna City Hall 103 Market Street Anna IL 62906 United States;X-APPLE-RADIUS=500;X-TITLE=103 Market Street:geo:-89.2410287,37.4585409
END:VEVENT
END:VCALENDAR