BEGIN:VCALENDAR
VERSION:2.0
PRODID:-//City of Anna - ECPv4.9.12//NONSGML v1.0//EN
CALSCALE:GREGORIAN
METHOD:PUBLISH
X-WR-CALNAME:City of Anna
X-ORIGINAL-URL:https://cityofanna.org
X-WR-CALDESC:Events for City of Anna
BEGIN:VTIMEZONE
TZID:America/Chicago
BEGIN:DAYLIGHT
TZOFFSETFROM:-0600
TZOFFSETTO:-0500
TZNAME:CDT
DTSTART:20220313T080000
END:DAYLIGHT
BEGIN:STANDARD
TZOFFSETFROM:-0500
TZOFFSETTO:-0600
TZNAME:CST
DTSTART:20221106T070000
END:STANDARD
END:VTIMEZONE
BEGIN:VEVENT
DTSTART;TZID=America/Chicago:20220405T170000
DTEND;TZID=America/Chicago:20220405T170000
DTSTAMP:20260421T224929
CREATED:20220401T203230Z
LAST-MODIFIED:20220401T203230Z
UID:4558-1649178000-1649178000@cityofanna.org
SUMMARY:City Council Meeting
DESCRIPTION:
URL:https://cityofanna.org/event/city-council-meeting-3/
LOCATION:103 Market Street\, Anna\, IL\, 62906\, United States
END:VEVENT
BEGIN:VEVENT
DTSTART;VALUE=DATE:20220405
DTEND;VALUE=DATE:20220409
DTSTAMP:20260421T224929
CREATED:20220106T195551Z
LAST-MODIFIED:20220106T195605Z
UID:4424-1649127600-1649386799@cityofanna.org
SUMMARY:Big Trash Pick Up
DESCRIPTION:
URL:https://cityofanna.org/event/big-trash-pick-up-14/
LOCATION:103 Market Street\, Anna\, IL\, 62906\, United States
END:VEVENT
END:VCALENDAR