BEGIN:VCALENDAR
VERSION:2.0
PRODID:-//City of Anna - ECPv4.9.12//NONSGML v1.0//EN
CALSCALE:GREGORIAN
METHOD:PUBLISH
X-WR-CALNAME:City of Anna
X-ORIGINAL-URL:https://cityofanna.org
X-WR-CALDESC:Events for City of Anna
BEGIN:VTIMEZONE
TZID:America/Chicago
BEGIN:DAYLIGHT
TZOFFSETFROM:-0600
TZOFFSETTO:-0500
TZNAME:CDT
DTSTART:20230312T080000
END:DAYLIGHT
BEGIN:STANDARD
TZOFFSETFROM:-0500
TZOFFSETTO:-0600
TZNAME:CST
DTSTART:20231105T070000
END:STANDARD
END:VTIMEZONE
BEGIN:VEVENT
DTSTART;VALUE=DATE:20231225
DTEND;VALUE=DATE:20231227
DTSTAMP:20260422T082820
CREATED:20231130T184726Z
LAST-MODIFIED:20231130T184726Z
UID:6154-1703473200-1703559599@cityofanna.org
SUMMARY:CHRISTMAS DAY CLOSED
DESCRIPTION:
URL:https://cityofanna.org/event/christmas-day-closed-3/
LOCATION:103 Market Street\, Anna\, IL\, 62906\, United States
END:VEVENT
END:VCALENDAR