BEGIN:VCALENDAR
VERSION:2.0
PRODID:-//City of Anna - ECPv4.9.12//NONSGML v1.0//EN
CALSCALE:GREGORIAN
METHOD:PUBLISH
X-WR-CALNAME:City of Anna
X-ORIGINAL-URL:https://cityofanna.org
X-WR-CALDESC:Events for City of Anna
BEGIN:VTIMEZONE
TZID:America/Chicago
BEGIN:DAYLIGHT
TZOFFSETFROM:-0600
TZOFFSETTO:-0500
TZNAME:CDT
DTSTART:20250309T080000
END:DAYLIGHT
BEGIN:STANDARD
TZOFFSETFROM:-0500
TZOFFSETTO:-0600
TZNAME:CST
DTSTART:20251102T070000
END:STANDARD
END:VTIMEZONE
BEGIN:VEVENT
DTSTART;VALUE=DATE:20250704
DTEND;VALUE=DATE:20250706
DTSTAMP:20260419T143135
CREATED:20241231T185127Z
LAST-MODIFIED:20241231T185127Z
UID:7102-1751598000-1751684399@cityofanna.org
SUMMARY:INDEPENDENCE DAY-CLOSED
DESCRIPTION:
URL:https://cityofanna.org/event/independence-day-closed-4/
LOCATION:103 Market Street\, Anna\, IL\, 62906\, United States
END:VEVENT
BEGIN:VEVENT
DTSTART;TZID=America/Chicago:20250704T170000
DTEND;TZID=America/Chicago:20250704T213000
DTSTAMP:20260419T143135
CREATED:20221107T190809Z
LAST-MODIFIED:20221107T190809Z
UID:5792-1751648400-1751664600@cityofanna.org
SUMMARY:City of Anna 4th of July Fireworks
DESCRIPTION:Join the City in celebrating our independence with a large fireworks display at the Anna City Park. Live music and food trucks will be on site. \n
URL:https://cityofanna.org/event/city-of-anna-4th-of-july-fireworks/2025-07-04/
LOCATION:103 Market Street\, Anna\, IL\, 62906\, United States
END:VEVENT
END:VCALENDAR