BEGIN:VCALENDAR
VERSION:2.0
PRODID:-//City of Anna - ECPv4.9.12//NONSGML v1.0//EN
CALSCALE:GREGORIAN
METHOD:PUBLISH
X-WR-CALNAME:City of Anna
X-ORIGINAL-URL:https://cityofanna.org
X-WR-CALDESC:Events for City of Anna
BEGIN:VTIMEZONE
TZID:America/Chicago
BEGIN:DAYLIGHT
TZOFFSETFROM:-0600
TZOFFSETTO:-0500
TZNAME:CDT
DTSTART:20250309T080000
END:DAYLIGHT
BEGIN:STANDARD
TZOFFSETFROM:-0500
TZOFFSETTO:-0600
TZNAME:CST
DTSTART:20251102T070000
END:STANDARD
END:VTIMEZONE
BEGIN:VEVENT
DTSTART;VALUE=DATE:20251111
DTEND;VALUE=DATE:20251113
DTSTAMP:20260422T132232
CREATED:20241231T185524Z
LAST-MODIFIED:20241231T185524Z
UID:7111-1762830000-1762916399@cityofanna.org
SUMMARY:VETERANS DAY-CLOSED
DESCRIPTION:
URL:https://cityofanna.org/event/veterans-day-closed-5/
LOCATION:103 Market Street\, Anna\, IL\, 62906\, United States
END:VEVENT
BEGIN:VEVENT
DTSTART;TZID=America/Chicago:20251111T110000
DTEND;TZID=America/Chicago:20251111T130000
DTSTAMP:20260422T132232
CREATED:20221107T185700Z
LAST-MODIFIED:20221107T185700Z
UID:6136-1762858800-1762866000@cityofanna.org
SUMMARY:Veterans Day Parade
DESCRIPTION:Parade Route: East Davie Street to South Main and ends at High Street. \nJoin the VFW to salute and honor our veterans. \n
URL:https://cityofanna.org/event/veterans-day-parade/2025-11-11/
LOCATION:103 Market Street\, Anna\, IL\, 62906\, United States
END:VEVENT
END:VCALENDAR