BEGIN:VCALENDAR
VERSION:2.0
PRODID:-//City of Anna - ECPv4.9.12//NONSGML v1.0//EN
CALSCALE:GREGORIAN
METHOD:PUBLISH
X-WR-CALNAME:City of Anna
X-ORIGINAL-URL:https://cityofanna.org
X-WR-CALDESC:Events for City of Anna
BEGIN:VTIMEZONE
TZID:America/Chicago
BEGIN:DAYLIGHT
TZOFFSETFROM:-0600
TZOFFSETTO:-0500
TZNAME:CDT
DTSTART:20200308T080000
END:DAYLIGHT
BEGIN:STANDARD
TZOFFSETFROM:-0500
TZOFFSETTO:-0600
TZNAME:CST
DTSTART:20201101T070000
END:STANDARD
END:VTIMEZONE
BEGIN:VEVENT
DTSTART;TZID=America/Chicago:20200314T190000
DTEND;TZID=America/Chicago:20200314T190000
DTSTAMP:20260420T083817
CREATED:20200122T141255Z
LAST-MODIFIED:20200122T141255Z
UID:2708-1584212400-1584212400@cityofanna.org
SUMMARY:AJCHS Musical "Bye Bye Birdie"
DESCRIPTION:For more information click here. \n\n\n	\n
URL:https://cityofanna.org/event/ajchs-musical-bye-bye-birdie-2/
LOCATION:AJCHS\, 608 S Main St.\, Anna\, IL\, 62906\, United States
GEO:37.4552959;-89.2548874
X-APPLE-STRUCTURED-LOCATION;VALUE=URI;X-ADDRESS=AJCHS 608 S Main St. Anna IL 62906 United States;X-APPLE-RADIUS=500;X-TITLE=608 S Main St.:geo:-89.2548874,37.4552959
END:VEVENT
END:VCALENDAR