BEGIN:VCALENDAR
VERSION:2.0
PRODID:-//City of Anna - ECPv4.9.12//NONSGML v1.0//EN
CALSCALE:GREGORIAN
METHOD:PUBLISH
X-WR-CALNAME:City of Anna
X-ORIGINAL-URL:https://cityofanna.org
X-WR-CALDESC:Events for City of Anna
BEGIN:VTIMEZONE
TZID:America/Chicago
BEGIN:DAYLIGHT
TZOFFSETFROM:-0600
TZOFFSETTO:-0500
TZNAME:CDT
DTSTART:20250309T080000
END:DAYLIGHT
BEGIN:STANDARD
TZOFFSETFROM:-0500
TZOFFSETTO:-0600
TZNAME:CST
DTSTART:20251102T070000
END:STANDARD
END:VTIMEZONE
BEGIN:VEVENT
DTSTART;TZID=America/Chicago:20250412T070000
DTEND;TZID=America/Chicago:20250412T150000
DTSTAMP:20260420T084322
CREATED:20250402T191911Z
LAST-MODIFIED:20250402T191944Z
UID:7297-1744441200-1744470000@cityofanna.org
SUMMARY:COMMUNITY YARD SALE AT THE FAIR 7AM TO 3PM
DESCRIPTION:\n\n	\n
URL:https://cityofanna.org/event/community-yard-sale-at-the-fair-7am-to-3pm/
LOCATION:103 Market Street\, Anna\, IL\, 62906\, United States
END:VEVENT
END:VCALENDAR