BEGIN:VCALENDAR
VERSION:2.0
PRODID:-//City of Anna - ECPv4.9.12//NONSGML v1.0//EN
CALSCALE:GREGORIAN
METHOD:PUBLISH
X-WR-CALNAME:City of Anna
X-ORIGINAL-URL:https://cityofanna.org
X-WR-CALDESC:Events for City of Anna
BEGIN:VTIMEZONE
TZID:America/Chicago
BEGIN:DAYLIGHT
TZOFFSETFROM:-0600
TZOFFSETTO:-0500
TZNAME:CDT
DTSTART:20240310T080000
END:DAYLIGHT
BEGIN:STANDARD
TZOFFSETFROM:-0500
TZOFFSETTO:-0600
TZNAME:CST
DTSTART:20241103T070000
END:STANDARD
END:VTIMEZONE
BEGIN:VEVENT
DTSTART;TZID=America/Chicago:20240614T130000
DTEND;TZID=America/Chicago:20240614T170000
DTSTAMP:20260420T101949
CREATED:20240613T151748Z
LAST-MODIFIED:20240613T152105Z
UID:6510-1718370000-1718384400@cityofanna.org
SUMMARY:Free Swim 1 p.m. to 5 p.m.
DESCRIPTION:Friday June 14th is our first Free Pool Day sponsored by Mathew’s Mobile Mechanic LLC. Thank you Jason Mathew. \n \n\n\n	\n
URL:https://cityofanna.org/event/free-swim-1-p-m-to-5-p-m/
LOCATION:103 Market Street\, Anna\, IL\, 62906\, United States
END:VEVENT
END:VCALENDAR