BEGIN:VCALENDAR
VERSION:2.0
PRODID:-//City of Anna - ECPv4.9.12//NONSGML v1.0//EN
CALSCALE:GREGORIAN
METHOD:PUBLISH
X-WR-CALNAME:City of Anna
X-ORIGINAL-URL:https://cityofanna.org
X-WR-CALDESC:Events for City of Anna
BEGIN:VTIMEZONE
TZID:America/Chicago
BEGIN:DAYLIGHT
TZOFFSETFROM:-0600
TZOFFSETTO:-0500
TZNAME:CDT
DTSTART:20190310T080000
END:DAYLIGHT
BEGIN:STANDARD
TZOFFSETFROM:-0500
TZOFFSETTO:-0600
TZNAME:CST
DTSTART:20191103T070000
END:STANDARD
END:VTIMEZONE
BEGIN:VEVENT
DTSTART;VALUE=DATE:20190101
DTEND;VALUE=DATE:20190103
DTSTAMP:20260420T110636
CREATED:20181231T210243Z
LAST-MODIFIED:20181231T210243Z
UID:1095-1546311600-1546397999@cityofanna.org
SUMMARY:New Years Day - Closed
DESCRIPTION:City Hall will be closed in observance of New Years. \n\n\n	\n
URL:https://cityofanna.org/event/new-years-day-closed/
LOCATION:103 Market Street\, Anna\, IL\, 62906\, United States
CATEGORIES:Observed Holiday
END:VEVENT
END:VCALENDAR