BEGIN:VCALENDAR
VERSION:2.0
PRODID:-//City of Anna - ECPv4.9.12//NONSGML v1.0//EN
CALSCALE:GREGORIAN
METHOD:PUBLISH
X-WR-CALNAME:City of Anna
X-ORIGINAL-URL:https://cityofanna.org
X-WR-CALDESC:Events for City of Anna
BEGIN:VTIMEZONE
TZID:America/Chicago
BEGIN:DAYLIGHT
TZOFFSETFROM:-0600
TZOFFSETTO:-0500
TZNAME:CDT
DTSTART:20190310T080000
END:DAYLIGHT
BEGIN:STANDARD
TZOFFSETFROM:-0500
TZOFFSETTO:-0600
TZNAME:CST
DTSTART:20191103T070000
END:STANDARD
END:VTIMEZONE
BEGIN:VEVENT
DTSTART;TZID=America/Chicago:20190101T170000
DTEND;TZID=America/Chicago:20190101T190000
DTSTAMP:20260420T093627
CREATED:20181231T210459Z
LAST-MODIFIED:20181231T210459Z
UID:1098-1546362000-1546369200@cityofanna.org
SUMMARY:No City Council Meeting
DESCRIPTION:There will be no City Council meeting in observance of New Years Day. \n\n\n	\n
URL:https://cityofanna.org/event/no-city-council-meeting/
LOCATION:103 Market Street\, Anna\, IL\, 62906\, United States
CATEGORIES:Council Meetings
END:VEVENT
END:VCALENDAR